BEGIN:VCALENDAR
VERSION:2.0
PRODID:-//ChamberMaster//Event Calendar 2.0//EN
METHOD:PUBLISH
X-PUBLISHED-TTL:P3D
REFRESH-INTERVAL:P3D
CALSCALE:GREGORIAN
BEGIN:VEVENT
DTSTART;VALUE=DATE:20050617
DTEND;VALUE=DATE:20050619
TRANSP:TRANSPARENT
X-MICROSOFT-CDO-ALLDAYEVENT:TRUE
SUMMARY:Juneteenth Celebration
DESCRIPTION:Juneteenth is the oldest known celebration of the ending of slavery.  To commemorate this important date in history\, thousands gather for a festive day of entertainment\, barbecue\, childrens activities and a steppin contest.  Free admission.
X-ALT-DESC;FMTTYPE=text/html:Juneteenth is the oldest known celebration of the ending of slavery.  To commemorate this important date in history\, thousands gather for a festive day of entertainment\, barbecue\, childrens activities and a steppin contest.  Free admission.
LOCATION:
UID:e.2562.4593
SEQUENCE:3
DTSTAMP:20260421T230554Z
URL:http://metrochamberca.chambermaster.com/events/details/juneteenth-celebration-06-17-2005-4593
END:VEVENT

END:VCALENDAR
