BEGIN:VCALENDAR
VERSION:2.0
PRODID:-//ChamberMaster//Event Calendar 2.0//EN
METHOD:PUBLISH
X-PUBLISHED-TTL:P3D
REFRESH-INTERVAL:P3D
CALSCALE:GREGORIAN
BEGIN:VEVENT
DTSTART:20050623T150000Z
DTEND:20050623T150000Z
X-MICROSOFT-CDO-ALLDAYEVENT:FALSE
SUMMARY:Memory Spring ''High Performance Memory''
DESCRIPTION:This high energy session delivered by Michael Lawrence Green of Memory Spring is a great opportunity for people to enhance their memory skills and the quality of their lives. Michael has worked with organizations such as SMUD\, UC Davis\, Sacramento Airport System and Sutter West.  Within this dynamic session participants will test their current memory\, learn memory keys & influences\, and learn different memory methods\, including remembering faces and names and key lists. We are inudated with an increasing amount of information that impacts our lives on a daily basis. Unfortunately\, most of us haven't developed the memory skills to retain and internalize the information and typically remember only about 10% of the information we receive. Consequently\, we struggle and miss many opportunities.  Please call or email Michael at michael@memoryspring.com to reserve your spot. Seating is limited.
X-ALT-DESC;FMTTYPE=text/html:This high energy session delivered by Michael Lawrence Green of Memory Spring is a great opportunity for people to enhance their memory skills and the quality of their lives. Michael has worked with organizations such as SMUD\, UC Davis\, Sacramento Airport System and Sutter West.  Within this dynamic session participants will test their current memory\, learn memory keys & influences\, and learn different memory methods\, including remembering faces and names and key lists. We are inudated with an increasing amount of information that impacts our lives on a daily basis. Unfortunately\, most of us haven't developed the memory skills to retain and internalize the information and typically remember only about 10% of the information we receive. Consequently\, we struggle and miss many opportunities.  Please call or email Michael at michael@memoryspring.com to reserve your spot. Seating is limited.
LOCATION:500 Leisure Lane\, Sacramento\, CA 95815 Radisson Hotel Sacramento
UID:e.2562.4604
SEQUENCE:3
DTSTAMP:20260419T152030Z
URL:http://metrochamberca.chambermaster.com/events/details/memory-spring-high-performance-memory-06-23-2005-4604
END:VEVENT

END:VCALENDAR
