BEGIN:VCALENDAR
VERSION:2.0
PRODID:-//ChamberMaster//Event Calendar 2.0//EN
METHOD:PUBLISH
X-PUBLISHED-TTL:P3D
REFRESH-INTERVAL:P3D
CALSCALE:GREGORIAN
BEGIN:VEVENT
DTSTART:20041116T160000Z
DTEND:20041116T160000Z
X-MICROSOFT-CDO-ALLDAYEVENT:FALSE
SUMMARY:MPI Workshop & Luncheon
DESCRIPTION:Working Through Challenges Together\nA professional development session for meeting professionals.This monthly educational session of the Sacramento Chapter of MPI\, will feature  Dr. Robert Pennington who will provide an entertaining insight-filled presentation for leading through challenges.   Attendees will learn how to facilitate creative solutions to the challenge of doing more with less and identify barriers inhibiting the success of new initiatives.    Onsite Registration Fees:\n Workshop   \nWorkshop Only $45/members or $65 non-members.  Save by registering online at  www.mpisacramento.org or via phone (916) 315-1870.
X-ALT-DESC;FMTTYPE=text/html:<CENTER><I>Working Through Challenges Together<BR>A professional development session for meeting professionals.</I></CENTER><P>This monthly educational session of the Sacramento Chapter of MPI\, will feature  Dr. Robert Pennington who will provide an entertaining insight-filled presentation for leading through challenges.   Attendees will learn how to facilitate creative solutions to the challenge of doing more with less and identify barriers inhibiting the success of new initiatives.  <P>  <U>Onsite Registration Fees</U>:<BR> Workshop & Luncheon $70/members or $100/non-members\; <BR>Workshop Only $45/members or $65 non-members.<P>  Save by registering online at  www.mpisacramento.org or via phone (916) 315-1870.
LOCATION:Red Lion Inn
UID:e.2562.4108
SEQUENCE:3
DTSTAMP:20260425T172421Z
URL:http://metrochamberca.chambermaster.com/events/details/mpi-workshop-luncheon-11-16-2004-4108
END:VEVENT

END:VCALENDAR
