BEGIN:VCALENDAR
VERSION:2.0
PRODID:-//ChamberMaster//Event Calendar 2.0//EN
METHOD:PUBLISH
X-PUBLISHED-TTL:P3D
REFRESH-INTERVAL:P3D
CALSCALE:GREGORIAN
BEGIN:VEVENT
DTSTART:20041116T090000Z
DTEND:20041116T090000Z
X-MICROSOFT-CDO-ALLDAYEVENT:FALSE
SUMMARY:Nonprofit Integrity Act 2004\, Implementation Plan
DESCRIPTION:Nonprofit Integrity Act 2004\, Implementation Plan\n(by Attorney General's office)\nSacramento Informational Session\nTuesday\, Nov 16\, 2004.    To register\, check 501 (c)(3) Updates on our website at www.nonprofitresourcectr.org/nr_updates.html.
X-ALT-DESC;FMTTYPE=text/html:<CENTER>  Nonprofit Integrity Act 2004\, Implementation Plan<BR>(by Attorney General's office)<BR>Sacramento Informational Session<BR>Tuesday\, Nov 16\, 2004.<P>    To register\, check 501 (c)(3) Updates on our website at www.nonprofitresourcectr.org/nr_updates.html.<P>
LOCATION:1300 I Street\, Sacramento\, CA 95814 State Building
UID:e.2562.4072
SEQUENCE:3
DTSTAMP:20260425T192337Z
URL:http://metrochamberca.chambermaster.com/events/details/nonprofit-integrity-act-2004-implementation-plan-11-16-2004-4072
END:VEVENT

END:VCALENDAR
