BEGIN:VCALENDAR
VERSION:2.0
PRODID:-//ChamberMaster//Event Calendar 2.0//EN
METHOD:PUBLISH
X-PUBLISHED-TTL:P3D
REFRESH-INTERVAL:P3D
CALSCALE:GREGORIAN
BEGIN:VEVENT
DTSTART:20051123T030000Z
DTEND:20051123T030000Z
X-MICROSOFT-CDO-ALLDAYEVENT:FALSE
SUMMARY:Nutcracker Readings at Borders
DESCRIPTION:Bring your children for a magical reading of The Nutcracker by the Sugar Plum Fairy & other professional dancers from The Sacramento Ballet's Nutcracker.  Great opportunity for photos.  All readings are complimentary & limited tickets to The Nutcracker will be available for purchase at these readings.  For more information\, contact Sunny Staton at 916/552-5800 ext 113.   For more information about The Nutcracker or related events you may contact Jennifer Getz by phone or email.
X-ALT-DESC;FMTTYPE=text/html:Bring your children for a magical reading of The Nutcracker by the Sugar Plum Fairy & other professional dancers from The Sacramento Ballet's Nutcracker.  Great opportunity for photos.  All readings are complimentary & limited tickets to The Nutcracker will be available for purchase at these readings.  For more information\, contact Sunny Staton at 916/552-5800 ext 113.   For more information about The Nutcracker or related events you may contact Jennifer Getz by phone or email.
LOCATION:Borders in Natomas
UID:e.2562.4981
SEQUENCE:3
DTSTAMP:20260425T192337Z
URL:http://metrochamberca.chambermaster.com/events/details/nutcracker-readings-at-borders-11-22-2005-4981
END:VEVENT

END:VCALENDAR
