BEGIN:VCALENDAR
VERSION:2.0
PRODID:-//ChamberMaster//Event Calendar 2.0//EN
METHOD:PUBLISH
X-PUBLISHED-TTL:P3D
REFRESH-INTERVAL:P3D
CALSCALE:GREGORIAN
BEGIN:VEVENT
DTSTART:20050209T161500Z
DTEND:20050209T161500Z
X-MICROSOFT-CDO-ALLDAYEVENT:FALSE
SUMMARY:Skillpath: Managing Multiple Projects\, Objectives\, Deadlines
DESCRIPTION:Skillpath Seminars\n  The Smart  Choice for people serious about success.  invite you to attend\n  a very special one-day workshop  Managing Multiple Projects\, Objectives and Deadlines    Learn how to get and keep control of concurrent projects\, competing priorities and critical deadlines.  Master valuable new skills that will serve you forever!\n    How to reap the benefits of better planning  How to stay on top of multiple projects and demanding deadlines  How to get organized and stay that way  Why deadlines get missed – and how to make sure they won't be  How to maintain a high level of personal motivation when the pressure is on  How to overcome the most common barriers to personal productivity  Plus dozens of ways you can be more powerfully productive every single day    Registration:  $199\n  To register call 1-800-873-7545 or online at www.skillpath.com.
X-ALT-DESC;FMTTYPE=text/html:<CENTER>Skillpath Seminars<BR>  <I>The Smart  Choice for people serious about success.</I><P>  invite you to attend<BR>  a very special one-day workshop<P>  Managing Multiple Projects\, Objectives and Deadlines<P>  </CENTER>  Learn how to get and keep control of concurrent projects\, competing priorities and critical deadlines.<P>  Master valuable new skills that will serve you forever!<BR>  <UL>  <LI>How to reap the benefits of better planning  <LI>How to stay on top of multiple projects and demanding deadlines  <LI>How to get organized and stay that way  <LI>Why deadlines get missed – and how to make sure they won't be  <LI>How to maintain a high level of personal motivation when the pressure is on  <LI>How to overcome the most common barriers to personal productivity  <LI>Plus dozens of ways you can be more powerfully productive <I>every single day</I>  </UL>  Registration:  $199<BR>  To register call 1-800-873-7545 or online at www.skillpath.com.
LOCATION:Hyatt Regency Sacramento
UID:e.2562.4051
SEQUENCE:3
DTSTAMP:20260420T201957Z
URL:http://metrochamberca.chambermaster.com/events/details/skillpath-managing-multiple-projects-objectives-deadlines-02-09-2005-4051
END:VEVENT

END:VCALENDAR
