BEGIN:VCALENDAR
VERSION:2.0
PRODID:-//ChamberMaster//Event Calendar 2.0//EN
METHOD:PUBLISH
X-PUBLISHED-TTL:P3D
REFRESH-INTERVAL:P3D
CALSCALE:GREGORIAN
BEGIN:VEVENT
DTSTART;VALUE=DATE:20050519
DTEND;VALUE=DATE:20050520
TRANSP:TRANSPARENT
X-MICROSOFT-CDO-ALLDAYEVENT:TRUE
SUMMARY:Transform Your Board Workshop
DESCRIPTION:CAN's popular Transform Your Board! workshop will be held Thurs\, May 19 in L.A. and other dates (TBA) throughout the state this year. Governance is a top target of accountability efforts -- how does your board measure up? Get insight on how board culture develops and create an action plan for resolving board passivity\, dysfunction\, and other problems at their roots. Come to the May 19 event in L.A. or keep your eyes peeled for other dates and places around the state to be added soon.   In the meantime\, pre-register for any of CAN's Transform Your Board! workshops by sending a blank e-mail with "Transform Your Board!" in the subject line to lporter@CAnonprofits.org -- we'll notify you as soon as online registration is up and running!
X-ALT-DESC;FMTTYPE=text/html:<p>CAN's popular Transform Your Board! workshop will be held Thurs\, May 19 in L.A. and other dates (TBA) throughout the state this year. Governance is a top target of accountability efforts -- how does your board measure up? Get insight on how board culture develops and create an action plan for resolving board passivity\, dysfunction\, and other problems at their roots. Come to the May 19 event in L.A. or keep your eyes peeled for other dates and places around the state to be added soon. </p>  <p>In the meantime\, pre-register for any of CAN's Transform Your Board! workshops by sending a blank e-mail with "Transform Your Board!" in the subject line to lporter@CAnonprofits.org -- we'll notify you as soon as online registration is up and running!</p>
LOCATION:
UID:e.2562.4479
SEQUENCE:3
DTSTAMP:20260421T034855Z
URL:http://metrochamberca.chambermaster.com/events/details/transform-your-board-workshop-05-19-2005-4479
END:VEVENT

END:VCALENDAR
